BEGIN:VCALENDAR
VERSION:2.0
PRODID:-//Pacifica - ECPv6.15.20//NONSGML v1.0//EN
CALSCALE:GREGORIAN
METHOD:PUBLISH
X-WR-CALNAME:Pacifica
X-ORIGINAL-URL:https://pacificagarden.org
X-WR-CALDESC:Events for Pacifica
REFRESH-INTERVAL;VALUE=DURATION:PT1H
X-Robots-Tag:noindex
X-PUBLISHED-TTL:PT1H
BEGIN:VTIMEZONE
TZID:America/Los_Angeles
BEGIN:DAYLIGHT
TZOFFSETFROM:-0800
TZOFFSETTO:-0700
TZNAME:PDT
DTSTART:20240310T100000
END:DAYLIGHT
BEGIN:STANDARD
TZOFFSETFROM:-0700
TZOFFSETTO:-0800
TZNAME:PST
DTSTART:20241103T090000
END:STANDARD
BEGIN:DAYLIGHT
TZOFFSETFROM:-0800
TZOFFSETTO:-0700
TZNAME:PDT
DTSTART:20250309T100000
END:DAYLIGHT
BEGIN:STANDARD
TZOFFSETFROM:-0700
TZOFFSETTO:-0800
TZNAME:PST
DTSTART:20251102T090000
END:STANDARD
BEGIN:DAYLIGHT
TZOFFSETFROM:-0800
TZOFFSETTO:-0700
TZNAME:PDT
DTSTART:20260308T100000
END:DAYLIGHT
BEGIN:STANDARD
TZOFFSETFROM:-0700
TZOFFSETTO:-0800
TZNAME:PST
DTSTART:20261101T090000
END:STANDARD
END:VTIMEZONE
BEGIN:VEVENT
DTSTART;VALUE=DATE:20250210
DTEND;VALUE=DATE:20250213
DTSTAMP:20260421T130749
CREATED:20250205T205312Z
LAST-MODIFIED:20250212T004219Z
UID:1034-1739145600-1739404799@pacificagarden.org
SUMMARY:Ongoing land Maintenance on Trails and Heavy Equipment Use
DESCRIPTION:There may be loud chainsawing. Please be mindful and keep your distance from active work areas.
URL:https://pacificagarden.org/event/ongoing-land-maintenance-on-trails-and-heavy-equipment-use/
END:VEVENT
END:VCALENDAR