BEGIN:VCALENDAR
VERSION:2.0
PRODID:-//Pacifica - ECPv6.15.20//NONSGML v1.0//EN
CALSCALE:GREGORIAN
METHOD:PUBLISH
X-WR-CALNAME:Pacifica
X-ORIGINAL-URL:https://pacificagarden.org
X-WR-CALDESC:Events for Pacifica
REFRESH-INTERVAL;VALUE=DURATION:PT1H
X-Robots-Tag:noindex
X-PUBLISHED-TTL:PT1H
BEGIN:VTIMEZONE
TZID:America/Los_Angeles
BEGIN:DAYLIGHT
TZOFFSETFROM:-0800
TZOFFSETTO:-0700
TZNAME:PDT
DTSTART:20240310T100000
END:DAYLIGHT
BEGIN:STANDARD
TZOFFSETFROM:-0700
TZOFFSETTO:-0800
TZNAME:PST
DTSTART:20241103T090000
END:STANDARD
BEGIN:DAYLIGHT
TZOFFSETFROM:-0800
TZOFFSETTO:-0700
TZNAME:PDT
DTSTART:20250309T100000
END:DAYLIGHT
BEGIN:STANDARD
TZOFFSETFROM:-0700
TZOFFSETTO:-0800
TZNAME:PST
DTSTART:20251102T090000
END:STANDARD
BEGIN:DAYLIGHT
TZOFFSETFROM:-0800
TZOFFSETTO:-0700
TZNAME:PDT
DTSTART:20260308T100000
END:DAYLIGHT
BEGIN:STANDARD
TZOFFSETFROM:-0700
TZOFFSETTO:-0800
TZNAME:PST
DTSTART:20261101T090000
END:STANDARD
END:VTIMEZONE
BEGIN:VEVENT
DTSTART;VALUE=DATE:20250215
DTEND;VALUE=DATE:20250217
DTSTAMP:20260421T084831
CREATED:20250205T205312Z
LAST-MODIFIED:20250216T035700Z
UID:1041-1739577600-1739750399@pacificagarden.org
SUMMARY:Pond House( not Available)
DESCRIPTION:For availability and bookings\, please visit our AirBNB page. \nThe Pond House \nairbnb.com/h/historicpondhouse \nThe Meadow Cottage link \nairbnb.com/h/pacificameadowcottage
URL:https://pacificagarden.org/event/pond-house-not-avail-booked-on-airbnb/
END:VEVENT
BEGIN:VEVENT
DTSTART;TZID=America/Los_Angeles:20250216T110000
DTEND;TZID=America/Los_Angeles:20250216T140000
DTSTAMP:20260421T084831
CREATED:20250205T205313Z
LAST-MODIFIED:20250216T035700Z
UID:1050-1739703600-1739714400@pacificagarden.org
SUMMARY:Community Sewing Class
DESCRIPTION:Learn some basic sewing skills\, including how to use a sewing machine at the Community Sewing Workshop with Serene! \nWHEN: Sunday\, February 16 from 11:00AM – 2:00PM \nWHERE: Pacifica’s Makers Space \nAGES: 10 and up \nPRICE: Donation-based! Choose a donation amount that you feel comfortable with below. Donation is NOT required. We encourage everyone to come regardless! \nREGISTER: https://form.jotform.com/250225399805158
URL:https://pacificagarden.org/event/community-sewing-class-2/
END:VEVENT
END:VCALENDAR