BEGIN:VCALENDAR
VERSION:2.0
PRODID:-//Pacifica - ECPv6.15.20//NONSGML v1.0//EN
CALSCALE:GREGORIAN
METHOD:PUBLISH
X-ORIGINAL-URL:https://pacificagarden.org
X-WR-CALDESC:Events for Pacifica
REFRESH-INTERVAL;VALUE=DURATION:PT1H
X-Robots-Tag:noindex
X-PUBLISHED-TTL:PT1H
BEGIN:VTIMEZONE
TZID:America/Los_Angeles
BEGIN:DAYLIGHT
TZOFFSETFROM:-0800
TZOFFSETTO:-0700
TZNAME:PDT
DTSTART:20240310T100000
END:DAYLIGHT
BEGIN:STANDARD
TZOFFSETFROM:-0700
TZOFFSETTO:-0800
TZNAME:PST
DTSTART:20241103T090000
END:STANDARD
BEGIN:DAYLIGHT
TZOFFSETFROM:-0800
TZOFFSETTO:-0700
TZNAME:PDT
DTSTART:20250309T100000
END:DAYLIGHT
BEGIN:STANDARD
TZOFFSETFROM:-0700
TZOFFSETTO:-0800
TZNAME:PST
DTSTART:20251102T090000
END:STANDARD
BEGIN:DAYLIGHT
TZOFFSETFROM:-0800
TZOFFSETTO:-0700
TZNAME:PDT
DTSTART:20260308T100000
END:DAYLIGHT
BEGIN:STANDARD
TZOFFSETFROM:-0700
TZOFFSETTO:-0800
TZNAME:PST
DTSTART:20261101T090000
END:STANDARD
END:VTIMEZONE
BEGIN:VEVENT
DTSTART;VALUE=DATE:20250218
DTEND;VALUE=DATE:20250224
DTSTAMP:20260421T130928
CREATED:20250205T205313Z
LAST-MODIFIED:20250211T003126Z
UID:1052-1739836800-1740355199@pacificagarden.org
SUMMARY:Ongoing Land Maintenance On Trails/Heavy Equipment Use
DESCRIPTION:May be loud chainsawing. Please be mindful and keep your distance from active work areas.
URL:https://pacificagarden.org/event/ongoing-land-maintenance-on-trails-heavy-equipment-use/
END:VEVENT
BEGIN:VEVENT
DTSTART;VALUE=DATE:20250221
DTEND;VALUE=DATE:20250225
DTSTAMP:20260421T130928
CREATED:20250205T205313Z
LAST-MODIFIED:20250224T235744Z
UID:1054-1740096000-1740441599@pacificagarden.org
SUMMARY:Meadow Cottage (not available)
DESCRIPTION:For availability and bookings\, https://www.airbnb.com/rooms/1054531993606618959?guests=1&adults=1&s=67&unique_share_id=3393cc04-039e-45a7-aa43-ba25e8755a39
URL:https://pacificagarden.org/event/meadow-cottage-unavalaible/
END:VEVENT
BEGIN:VEVENT
DTSTART;TZID=America/Los_Angeles:20250223T120000
DTEND;TZID=America/Los_Angeles:20250223T140000
DTSTAMP:20260421T130928
CREATED:20250218T041852Z
LAST-MODIFIED:20250223T114914Z
UID:2220-1740312000-1740319200@pacificagarden.org
SUMMARY:Community Ecstatic Dance
DESCRIPTION: A donation-based ecstatic dance hosted at Pacifica’s Great Hall inside the Cedar Center. \n  \nThis is not a Pacifica event.
URL:https://pacificagarden.org/event/community-ecstatic-dance/
END:VEVENT
END:VCALENDAR