BEGIN:VCALENDAR
VERSION:2.0
PRODID:-//Pacifica - ECPv6.15.20//NONSGML v1.0//EN
CALSCALE:GREGORIAN
METHOD:PUBLISH
X-ORIGINAL-URL:https://pacificagarden.org
X-WR-CALDESC:Events for Pacifica
REFRESH-INTERVAL;VALUE=DURATION:PT1H
X-Robots-Tag:noindex
X-PUBLISHED-TTL:PT1H
BEGIN:VTIMEZONE
TZID:America/Los_Angeles
BEGIN:DAYLIGHT
TZOFFSETFROM:-0800
TZOFFSETTO:-0700
TZNAME:PDT
DTSTART:20240310T100000
END:DAYLIGHT
BEGIN:STANDARD
TZOFFSETFROM:-0700
TZOFFSETTO:-0800
TZNAME:PST
DTSTART:20241103T090000
END:STANDARD
BEGIN:DAYLIGHT
TZOFFSETFROM:-0800
TZOFFSETTO:-0700
TZNAME:PDT
DTSTART:20250309T100000
END:DAYLIGHT
BEGIN:STANDARD
TZOFFSETFROM:-0700
TZOFFSETTO:-0800
TZNAME:PST
DTSTART:20251102T090000
END:STANDARD
BEGIN:DAYLIGHT
TZOFFSETFROM:-0800
TZOFFSETTO:-0700
TZNAME:PDT
DTSTART:20260308T100000
END:DAYLIGHT
BEGIN:STANDARD
TZOFFSETFROM:-0700
TZOFFSETTO:-0800
TZNAME:PST
DTSTART:20261101T090000
END:STANDARD
END:VTIMEZONE
BEGIN:VEVENT
DTSTART;TZID=America/Los_Angeles:20250310T100000
DTEND;TZID=America/Los_Angeles:20250310T130000
DTSTAMP:20260421T144314
CREATED:20250304T081338Z
LAST-MODIFIED:20250310T142702Z
UID:2568-1741600800-1741611600@pacificagarden.org
SUMMARY:Ceramics (5-Week Series)
DESCRIPTION:Unleash your creativity with this hands-on ceramics series! Over five weeks\, you’ll explore clay techniques\, refine your skills\, and bring your ideas to life. \n\nTuesdays (10 AM – 1 PM): Guided instruction with two experienced teachers\, covering ceramic techniques.\nMondays (10 AM – 1 PM) & Thursdays (3 PM – 6 PM): Open studio time to practice\, experiment\, and work on your pieces.\n\nThe first four weeks focus on creating\, and in the final week\, you’ll glaze your finished work. Whether you’re a beginner or looking to deepen your practice\, this class offers the perfect space to learn and grow. \nWHEN: 5-week Series starting on Monday\, March 10 \n\nOpen Studio: Mondays from 10:00 AM – 1:00 PM\nClass: Tuesdays from 10:00AM – 1:00PM\nOpen Studio: Thursdays from 3:00PM – 6:00PM\n\nWHERE: Ceramics Studio at Pacifica \nAGES: 12 and up. \nCOST: $105 for the 5 class series. Any additional class taken beyond that is $15 per class. All tools will be provided. Additional cost for clay\, read below. \nYou buy clay as you go. Clay is $3/pound which covers glazes and kiln firings. There are 4-5 different clay bodies to choose from! \nREGISTER: https://form.jotform.com/pacificawilliams/ceramics-spring-2025 \nINSTRUCTOR: Breonna Fagen\, (541) 916-6403\, bcanvas@me.com \nPlease contact instructor for any questions regarding this class!
URL:https://pacificagarden.org/event/ceramics-5-week-series/
END:VEVENT
BEGIN:VEVENT
DTSTART;TZID=America/Los_Angeles:20250310T151500
DTEND;TZID=America/Los_Angeles:20250310T161500
DTSTAMP:20260421T144314
CREATED:20250213T004812Z
LAST-MODIFIED:20250310T142702Z
UID:2126-1741619700-1741623300@pacificagarden.org
SUMMARY:Introduction to Drums & Percussion (8-week series)
DESCRIPTION:Students will learn\, create\, and play while discovering the basic fundamental principals of drums and percussion in a group setting. Play drums and make a practice pad to take home! This is an 8-class series that will consist of two projects\, materials included in class cost. All students are encouraged to register.  \n\nLesson 1\, Project 1: Hand out sticks and make a practice pad. Learn several rudimentary rhythms. Each student will glue the pad on a block of wood and be able to take this home and practice the beats we learn in class.\nLesson 2: Intro to drums and percussion\, history of drums and drumming. Introduce history and timeline. Brief overview of instruments and styles. Practice at least two rhythms on both practice pads and on real drums with the group each lesson.\nLesson 3: Introduce hand drums and snare drums to the class. Recap on history and different styles. Practice rhythms.\nLesson 4: Guest hand drummer(s) will demonstrate different rhythms and styles to the class and hold a group lesson with practice pads and drums. Practice rhythms\nLesson 5: Guest snare/ kit drummer will demonstrate different rhythms and styles focusing on snare skills\, demonstrating rolls and paradiddles as well as some drum kit showmanship. Practice rhythms\nLesson 6\, Project 2: Make a rattle/ shaker out of paper towel tube segments\, beans/ rice\, and craft paper. Then a guest percussionist will demonstrate rattles\, shakers\, bells and other percussion instruments with a group lesson to follow. Practice rhythms.\nLesson 7: Documentary style video giving a broad overview of percussion and drumming from around the world. Videos show both the music\, history and the cultures performing\, giving context to what we are hearing. Practice rhythms.\nLesson 8: Host a drum event/ picnic for the guest drummers and percussionists as well as students and their guests to participate in. This can be an hour long performance or something similar demonstrating the rhythms we learned and jamming with friends. Class conclusion\n\nMaterials provided: drum sticks and materials to make practice pads (wood blocks\, glue\, and leather or similar material for padding)\, snare drums and hand drums for each student\, various arts and craft supplies. \nWHEN: Series begins on Monday\, March 10\, 2025 from 3:15PM – 4:15PM \nWHERE: Great Hall in Pacifica’s Cedar Center \nAGES: 7 to 13 years old  \nCOST: $42 for series\, includes materials. \nREGISTER: https://form.jotform.com/pacificawilliams/intro-to-drums \nINSTRUCTOR CONTACT: Erik Vestnys\, (541) 761-2244\, erikinoregon@gmail.com
URL:https://pacificagarden.org/event/introduction-to-drums-percussion-8-week-series/
LOCATION:Great Hall
CATEGORIES:Children,Music
END:VEVENT
END:VCALENDAR