BEGIN:VCALENDAR
VERSION:2.0
PRODID:-//Pacifica - ECPv6.15.20//NONSGML v1.0//EN
CALSCALE:GREGORIAN
METHOD:PUBLISH
X-WR-CALNAME:Pacifica
X-ORIGINAL-URL:https://pacificagarden.org
X-WR-CALDESC:Events for Pacifica
REFRESH-INTERVAL;VALUE=DURATION:PT1H
X-Robots-Tag:noindex
X-PUBLISHED-TTL:PT1H
BEGIN:VTIMEZONE
TZID:America/Los_Angeles
BEGIN:DAYLIGHT
TZOFFSETFROM:-0800
TZOFFSETTO:-0700
TZNAME:PDT
DTSTART:20240310T100000
END:DAYLIGHT
BEGIN:STANDARD
TZOFFSETFROM:-0700
TZOFFSETTO:-0800
TZNAME:PST
DTSTART:20241103T090000
END:STANDARD
BEGIN:DAYLIGHT
TZOFFSETFROM:-0800
TZOFFSETTO:-0700
TZNAME:PDT
DTSTART:20250309T100000
END:DAYLIGHT
BEGIN:STANDARD
TZOFFSETFROM:-0700
TZOFFSETTO:-0800
TZNAME:PST
DTSTART:20251102T090000
END:STANDARD
BEGIN:DAYLIGHT
TZOFFSETFROM:-0800
TZOFFSETTO:-0700
TZNAME:PDT
DTSTART:20260308T100000
END:DAYLIGHT
BEGIN:STANDARD
TZOFFSETFROM:-0700
TZOFFSETTO:-0800
TZNAME:PST
DTSTART:20261101T090000
END:STANDARD
END:VTIMEZONE
BEGIN:VEVENT
DTSTART;TZID=America/Los_Angeles:20250313T150000
DTEND;TZID=America/Los_Angeles:20250313T180000
DTSTAMP:20260421T144040
CREATED:20250304T081353Z
LAST-MODIFIED:20250313T162108Z
UID:2570-1741878000-1741888800@pacificagarden.org
SUMMARY:Ceramics (5-Week Series)
DESCRIPTION:Unleash your creativity with this hands-on ceramics series! Over five weeks\, you’ll explore clay techniques\, refine your skills\, and bring your ideas to life. \n\nTuesdays (10 AM – 1 PM): Guided instruction with two experienced teachers\, covering ceramic techniques.\nMondays (10 AM – 1 PM) & Thursdays (3 PM – 6 PM): Open studio time to practice\, experiment\, and work on your pieces.\n\nThe first four weeks focus on creating\, and in the final week\, you'll glaze your finished work. Whether you're a beginner or looking to deepen your practice\, this class offers the perfect space to learn and grow. \nWHEN: 5-week Series starting on Monday\, March 10 \n\nOpen Studio: Mondays from 10:00 AM – 1:00 PM\nClass: Tuesdays from 10:00AM – 1:00PM\nOpen Studio: Thursdays from 3:00PM – 6:00PM\n\nWHERE: Ceramics Studio at Pacifica \nAGES: 12 and up. \nCOST: $105 for the 5 class series. Any additional class taken beyond that is $15 per class. All tools will be provided. Additional cost for clay\, read below. \nYou buy clay as you go. Clay is $3/pound which covers glazes and kiln firings. There are 4-5 different clay bodies to choose from! \nREGISTER: https://form.jotform.com/pacificawilliams/ceramics-spring-2025 \nINSTRUCTOR: Breonna Fagen\, (541) 916-6403\, bcanvas@me.com \nPlease contact instructor for any questions regarding this class!
URL:https://pacificagarden.org/event/ceramics-5-week-series-3/
END:VEVENT
END:VCALENDAR