BEGIN:VCALENDAR
VERSION:2.0
PRODID:-//Pacifica - ECPv6.15.20//NONSGML v1.0//EN
CALSCALE:GREGORIAN
METHOD:PUBLISH
X-ORIGINAL-URL:https://pacificagarden.org
X-WR-CALDESC:Events for Pacifica
REFRESH-INTERVAL;VALUE=DURATION:PT1H
X-Robots-Tag:noindex
X-PUBLISHED-TTL:PT1H
BEGIN:VTIMEZONE
TZID:America/Los_Angeles
BEGIN:DAYLIGHT
TZOFFSETFROM:-0800
TZOFFSETTO:-0700
TZNAME:PDT
DTSTART:20240310T100000
END:DAYLIGHT
BEGIN:STANDARD
TZOFFSETFROM:-0700
TZOFFSETTO:-0800
TZNAME:PST
DTSTART:20241103T090000
END:STANDARD
BEGIN:DAYLIGHT
TZOFFSETFROM:-0800
TZOFFSETTO:-0700
TZNAME:PDT
DTSTART:20250309T100000
END:DAYLIGHT
BEGIN:STANDARD
TZOFFSETFROM:-0700
TZOFFSETTO:-0800
TZNAME:PST
DTSTART:20251102T090000
END:STANDARD
BEGIN:DAYLIGHT
TZOFFSETFROM:-0800
TZOFFSETTO:-0700
TZNAME:PDT
DTSTART:20260308T100000
END:DAYLIGHT
BEGIN:STANDARD
TZOFFSETFROM:-0700
TZOFFSETTO:-0800
TZNAME:PST
DTSTART:20261101T090000
END:STANDARD
END:VTIMEZONE
BEGIN:VEVENT
DTSTART;VALUE=DATE:20250401
DTEND;VALUE=DATE:20250406
DTSTAMP:20260421T144329
CREATED:20250205T205315Z
LAST-MODIFIED:20250405T171252Z
UID:1071-1743465600-1743897599@pacificagarden.org
SUMMARY:Meadow Cottage (not available)
DESCRIPTION:For availability and bookings of The Pond House\, please visit our AirBNB page. \n \n \nFor availability and bookings of The Meadow Cottage\, please visit our AirBNB page.
URL:https://pacificagarden.org/event/the-meadow-cottage-unavailable/
END:VEVENT
BEGIN:VEVENT
DTSTART;VALUE=DATE:20250403
DTEND;VALUE=DATE:20250406
DTSTAMP:20260421T144329
CREATED:20250212T004159Z
LAST-MODIFIED:20250405T171252Z
UID:1930-1743638400-1743897599@pacificagarden.org
SUMMARY:The Pond House (not available)
DESCRIPTION:For availability and bookings\, please visit our AirBNB page. \nThe Pond House \nairbnb.com/h/historicpondhouse \nThe Meadow Cottage link \nairbnb.com/h/pacificameadowcottage
URL:https://pacificagarden.org/event/the-pond-house-not-available/
END:VEVENT
BEGIN:VEVENT
DTSTART;TZID=America/Los_Angeles:20250405T100000
DTEND;TZID=America/Los_Angeles:20250405T130000
DTSTAMP:20260421T144329
CREATED:20250312T144914Z
LAST-MODIFIED:20250405T171252Z
UID:2677-1743847200-1743858000@pacificagarden.org
SUMMARY:Inkle Loom Weaving Workshop
DESCRIPTION:Learn the basics of weaving on an inkle loom in this hands-on\, beginner-friendly class. You’ll weave a simple strap to take home while exploring this timeless\, meditative craft. \nWHEN: Saturday\, April 5\, 2025 from 10:00 AM – 1:00 PM \nWHERE: Makerspace in Pacifica’s Cedar Center \nAGES: 8 and up. \nCOST: $34 includes all equipment\, tools\, and materials are provided. \nREGISTER HERE: https://form.jotform.com/pacificawilliams/inkle-loom-weaving \nINSTRUCTOR: Nolan Babin\, (530) 339-5670\, concowclayworks@gmail.com \nPlease contact instructor for any questions regarding this class! 
URL:https://pacificagarden.org/event/inkle-loom-weaving-workshop/
END:VEVENT
END:VCALENDAR