BEGIN:VCALENDAR
VERSION:2.0
PRODID:-//Pacifica - ECPv6.15.20//NONSGML v1.0//EN
CALSCALE:GREGORIAN
METHOD:PUBLISH
X-ORIGINAL-URL:https://pacificagarden.org
X-WR-CALDESC:Events for Pacifica
REFRESH-INTERVAL;VALUE=DURATION:PT1H
X-Robots-Tag:noindex
X-PUBLISHED-TTL:PT1H
BEGIN:VTIMEZONE
TZID:America/Los_Angeles
BEGIN:DAYLIGHT
TZOFFSETFROM:-0800
TZOFFSETTO:-0700
TZNAME:PDT
DTSTART:20240310T100000
END:DAYLIGHT
BEGIN:STANDARD
TZOFFSETFROM:-0700
TZOFFSETTO:-0800
TZNAME:PST
DTSTART:20241103T090000
END:STANDARD
BEGIN:DAYLIGHT
TZOFFSETFROM:-0800
TZOFFSETTO:-0700
TZNAME:PDT
DTSTART:20250309T100000
END:DAYLIGHT
BEGIN:STANDARD
TZOFFSETFROM:-0700
TZOFFSETTO:-0800
TZNAME:PST
DTSTART:20251102T090000
END:STANDARD
BEGIN:DAYLIGHT
TZOFFSETFROM:-0800
TZOFFSETTO:-0700
TZNAME:PDT
DTSTART:20260308T100000
END:DAYLIGHT
BEGIN:STANDARD
TZOFFSETFROM:-0700
TZOFFSETTO:-0800
TZNAME:PST
DTSTART:20261101T090000
END:STANDARD
END:VTIMEZONE
BEGIN:VEVENT
DTSTART;TZID=America/Los_Angeles:20250426T100000
DTEND;TZID=America/Los_Angeles:20250426T130000
DTSTAMP:20260421T160727
CREATED:20250330T121210Z
LAST-MODIFIED:20250426T073420Z
UID:2792-1745661600-1745672400@pacificagarden.org
SUMMARY:Family Inkle Loom Weaving Workshop
DESCRIPTION:Fun for the whole family! Learn the basics of weaving on an inkle loom in this hands-on\, beginner-friendly class. You’ll weave a simple strap to take home while exploring this timeless\, meditative craft. This class is for adults and child\, the price is per household. Children must be with their parent/guardian for this class.  \nWHEN: Saturday\, April 26\, 2025 from 10:00 AM – 1:00 PM \nWHERE: Makerspace in Pacifica’s Cedar Center \nAGES: 8 and up. Kids must be accompanied by a parent. Price includes whole family. \nCOST: $232 includes all equipment\, tools\, and materials. You get to keep the loom and the finished 4’ strap. \nREGISTER HERE: https://form.jotform.com/pacificawilliams/family-inkle-loom \nINSTRUCTOR: Nolan Babin\, (530) 339-5670\, concowclayworks@gmail.com \nPlease contact instructor for any questions regarding this class! 
URL:https://pacificagarden.org/event/family-inkle-loom-weaving-workshop/
END:VEVENT
END:VCALENDAR