BEGIN:VCALENDAR
VERSION:2.0
PRODID:-//Pacifica - ECPv6.15.20//NONSGML v1.0//EN
CALSCALE:GREGORIAN
METHOD:PUBLISH
X-WR-CALNAME:Pacifica
X-ORIGINAL-URL:https://pacificagarden.org
X-WR-CALDESC:Events for Pacifica
REFRESH-INTERVAL;VALUE=DURATION:PT1H
X-Robots-Tag:noindex
X-PUBLISHED-TTL:PT1H
BEGIN:VTIMEZONE
TZID:America/Los_Angeles
BEGIN:DAYLIGHT
TZOFFSETFROM:-0800
TZOFFSETTO:-0700
TZNAME:PDT
DTSTART:20240310T100000
END:DAYLIGHT
BEGIN:STANDARD
TZOFFSETFROM:-0700
TZOFFSETTO:-0800
TZNAME:PST
DTSTART:20241103T090000
END:STANDARD
BEGIN:DAYLIGHT
TZOFFSETFROM:-0800
TZOFFSETTO:-0700
TZNAME:PDT
DTSTART:20250309T100000
END:DAYLIGHT
BEGIN:STANDARD
TZOFFSETFROM:-0700
TZOFFSETTO:-0800
TZNAME:PST
DTSTART:20251102T090000
END:STANDARD
BEGIN:DAYLIGHT
TZOFFSETFROM:-0800
TZOFFSETTO:-0700
TZNAME:PDT
DTSTART:20260308T100000
END:DAYLIGHT
BEGIN:STANDARD
TZOFFSETFROM:-0700
TZOFFSETTO:-0800
TZNAME:PST
DTSTART:20261101T090000
END:STANDARD
END:VTIMEZONE
BEGIN:VEVENT
DTSTART;VALUE=DATE:20250502
DTEND;VALUE=DATE:20250507
DTSTAMP:20260421T143124
CREATED:20250205T205316Z
LAST-MODIFIED:20250506T052635Z
UID:1081-1746144000-1746575999@pacificagarden.org
SUMMARY:Pond House/Meadow Cottage (not available)
DESCRIPTION:For availability and bookings of The Pond House\, please visit our AirBNB page. \n \n \nFor availability and bookings of The Meadow Cottage\, please visit our AirBNB page.
URL:https://pacificagarden.org/event/pond-house-and-meadow-cottage-rented-on-airbnb/
END:VEVENT
BEGIN:VEVENT
DTSTART;TZID=America/Los_Angeles:20250505T154500
DTEND;TZID=America/Los_Angeles:20250505T174500
DTSTAMP:20260421T143124
CREATED:20250214T012502Z
LAST-MODIFIED:20250505T043951Z
UID:2205-1746459900-1746467100@pacificagarden.org
SUMMARY:Kindness Matters Youth Theater
DESCRIPTION:Join us for a 9 week spring session of Kindness Matters Youth Theater. We will be deepening our friendships and getting silly while playing improv and team building games\, and creating fun skits.  \nAges: 6-10Instructor: Corbin BrashearAreas of Study: Social-Emotional Skills\, Teambuilding\, Collaborative Play\,   Date(s):  Every Monday from March 17th through May 19th. (NO CLASS SPRING BREAK\, MARCH 24)Session: 9 week sessionTime: 3:45 pm – 5:45 pmLocation: Makers Space or Pavilion at PacificaTuition: $181  \nFor questions\, contact Instructor: Corbin Brashear\, (541) 659-9839\, wildandwoolyfeltworks@gmail.com \nREGISTER: https://form.jotform.com/pacificawilliams/kindness-matters-spring-2025
URL:https://pacificagarden.org/event/kindness-matters-youth-theater-7/
LOCATION:Makers Space and Outside
END:VEVENT
END:VCALENDAR