BEGIN:VCALENDAR
VERSION:2.0
PRODID:-//Pacifica - ECPv6.15.20//NONSGML v1.0//EN
CALSCALE:GREGORIAN
METHOD:PUBLISH
X-ORIGINAL-URL:https://pacificagarden.org
X-WR-CALDESC:Events for Pacifica
REFRESH-INTERVAL;VALUE=DURATION:PT1H
X-Robots-Tag:noindex
X-PUBLISHED-TTL:PT1H
BEGIN:VTIMEZONE
TZID:America/Los_Angeles
BEGIN:DAYLIGHT
TZOFFSETFROM:-0800
TZOFFSETTO:-0700
TZNAME:PDT
DTSTART:20240310T100000
END:DAYLIGHT
BEGIN:STANDARD
TZOFFSETFROM:-0700
TZOFFSETTO:-0800
TZNAME:PST
DTSTART:20241103T090000
END:STANDARD
BEGIN:DAYLIGHT
TZOFFSETFROM:-0800
TZOFFSETTO:-0700
TZNAME:PDT
DTSTART:20250309T100000
END:DAYLIGHT
BEGIN:STANDARD
TZOFFSETFROM:-0700
TZOFFSETTO:-0800
TZNAME:PST
DTSTART:20251102T090000
END:STANDARD
BEGIN:DAYLIGHT
TZOFFSETFROM:-0800
TZOFFSETTO:-0700
TZNAME:PDT
DTSTART:20260308T100000
END:DAYLIGHT
BEGIN:STANDARD
TZOFFSETFROM:-0700
TZOFFSETTO:-0800
TZNAME:PST
DTSTART:20261101T090000
END:STANDARD
END:VTIMEZONE
BEGIN:VEVENT
DTSTART;VALUE=DATE:20250513
DTEND;VALUE=DATE:20250517
DTSTAMP:20260421T143745
CREATED:20250205T205317Z
LAST-MODIFIED:20250516T125237Z
UID:1089-1747094400-1747439999@pacificagarden.org
SUMMARY:Closed To Public-Forest Farm Nursery Open
DESCRIPTION:ALL of Pacifica’s property will be FULLY CLOSED. No vehicles\, trailers\, or patrons permitted on the property during this time. No trails open. \n \nForest Farm is still open during regular hours. \n \nThank you for your cooperation!
URL:https://pacificagarden.org/event/all-pacifica-property-closed-forest-farm-nursery-open-3/
END:VEVENT
BEGIN:VEVENT
DTSTART;TZID=America/Los_Angeles:20250513T150000
DTEND;TZID=America/Los_Angeles:20250518T090000
DTSTAMP:20260421T143745
CREATED:20250410T192401Z
LAST-MODIFIED:20250518T142653Z
UID:2866-1747148400-1747558800@pacificagarden.org
SUMMARY:Meadow Cottage (Not Available)
DESCRIPTION:For availability and bookings of The Pond House\, please visit our AirBNB page. \n \nFor availability and bookings of The Meadow Cottage\, please visit our AirBNB page.
URL:https://pacificagarden.org/event/meadow-cottage-not-available-5/
END:VEVENT
END:VCALENDAR