BEGIN:VCALENDAR
VERSION:2.0
PRODID:-//Pacifica - ECPv6.15.20//NONSGML v1.0//EN
CALSCALE:GREGORIAN
METHOD:PUBLISH
X-ORIGINAL-URL:https://pacificagarden.org
X-WR-CALDESC:Events for Pacifica
REFRESH-INTERVAL;VALUE=DURATION:PT1H
X-Robots-Tag:noindex
X-PUBLISHED-TTL:PT1H
BEGIN:VTIMEZONE
TZID:America/Los_Angeles
BEGIN:DAYLIGHT
TZOFFSETFROM:-0800
TZOFFSETTO:-0700
TZNAME:PDT
DTSTART:20240310T100000
END:DAYLIGHT
BEGIN:STANDARD
TZOFFSETFROM:-0700
TZOFFSETTO:-0800
TZNAME:PST
DTSTART:20241103T090000
END:STANDARD
BEGIN:DAYLIGHT
TZOFFSETFROM:-0800
TZOFFSETTO:-0700
TZNAME:PDT
DTSTART:20250309T100000
END:DAYLIGHT
BEGIN:STANDARD
TZOFFSETFROM:-0700
TZOFFSETTO:-0800
TZNAME:PST
DTSTART:20251102T090000
END:STANDARD
BEGIN:DAYLIGHT
TZOFFSETFROM:-0800
TZOFFSETTO:-0700
TZNAME:PDT
DTSTART:20260308T100000
END:DAYLIGHT
BEGIN:STANDARD
TZOFFSETFROM:-0700
TZOFFSETTO:-0800
TZNAME:PST
DTSTART:20261101T090000
END:STANDARD
END:VTIMEZONE
BEGIN:VEVENT
DTSTART;VALUE=DATE:20250517
DTEND;VALUE=DATE:20250520
DTSTAMP:20260421T143618
CREATED:20250319T221627Z
LAST-MODIFIED:20250519T153901Z
UID:2726-1747440000-1747699199@pacificagarden.org
SUMMARY:Pond House (not available)
DESCRIPTION:For availability and bookings of The Pond House\, please visit our AirBNB page. \n \nFor availability and bookings of The Meadow Cottage\, please visit our AirBNB page.
URL:https://pacificagarden.org/event/pond-house-not-available-12/
END:VEVENT
BEGIN:VEVENT
DTSTART;VALUE=DATE:20250518
DTEND;VALUE=DATE:20250520
DTSTAMP:20260421T143618
CREATED:20250319T221627Z
LAST-MODIFIED:20250519T153900Z
UID:2727-1747526400-1747699199@pacificagarden.org
SUMMARY:Meadow Cottage (not available)
DESCRIPTION:For availability and bookings of The Pond House\, please visit our AirBNB page. \n \nFor availability and bookings of The Meadow Cottage\, please visit our AirBNB page.
URL:https://pacificagarden.org/event/meadow-cottage-not-available-3/
END:VEVENT
END:VCALENDAR