BEGIN:VCALENDAR
VERSION:2.0
PRODID:-//Pacifica - ECPv6.15.20//NONSGML v1.0//EN
CALSCALE:GREGORIAN
METHOD:PUBLISH
X-ORIGINAL-URL:https://pacificagarden.org
X-WR-CALDESC:Events for Pacifica
REFRESH-INTERVAL;VALUE=DURATION:PT1H
X-Robots-Tag:noindex
X-PUBLISHED-TTL:PT1H
BEGIN:VTIMEZONE
TZID:America/Los_Angeles
BEGIN:DAYLIGHT
TZOFFSETFROM:-0800
TZOFFSETTO:-0700
TZNAME:PDT
DTSTART:20250309T100000
END:DAYLIGHT
BEGIN:STANDARD
TZOFFSETFROM:-0700
TZOFFSETTO:-0800
TZNAME:PST
DTSTART:20251102T090000
END:STANDARD
BEGIN:DAYLIGHT
TZOFFSETFROM:-0800
TZOFFSETTO:-0700
TZNAME:PDT
DTSTART:20260308T100000
END:DAYLIGHT
BEGIN:STANDARD
TZOFFSETFROM:-0700
TZOFFSETTO:-0800
TZNAME:PST
DTSTART:20261101T090000
END:STANDARD
BEGIN:DAYLIGHT
TZOFFSETFROM:-0800
TZOFFSETTO:-0700
TZNAME:PDT
DTSTART:20270314T100000
END:DAYLIGHT
BEGIN:STANDARD
TZOFFSETFROM:-0700
TZOFFSETTO:-0800
TZNAME:PST
DTSTART:20271107T090000
END:STANDARD
END:VTIMEZONE
BEGIN:VEVENT
DTSTART;VALUE=DATE:20260307
DTEND;VALUE=DATE:20260314
DTSTAMP:20260421T085020
CREATED:20260203T041706Z
LAST-MODIFIED:20260224T232937Z
UID:5361-1772841600-1773446399@pacificagarden.org
SUMMARY:Meadow Cottage (Not Available)
DESCRIPTION:For availability and bookings of The Pond House\, please visit our AirBNB page. \n \nFor availability and bookings of The Meadow Cottage\, please visit our AirBNB page.
URL:https://pacificagarden.org/event/meadow-cottage-not-available-32/
END:VEVENT
BEGIN:VEVENT
DTSTART;TZID=America/Los_Angeles:20260309T180000
DTEND;TZID=America/Los_Angeles:20260309T210000
DTSTAMP:20260421T085020
CREATED:20260219T221633Z
LAST-MODIFIED:20260224T232934Z
UID:5450-1773079200-1773090000@pacificagarden.org
SUMMARY:Improvised Music Workshop and Jam
DESCRIPTION:This workshop is intended for instrumentalists at a moderate to advanced playing level.  Bring your instument and amplification.  If your instument makes a soft sound\, we will do our best to mix levels.  We will use free improvisions for: training your ear\, freedom from inner critics\, flow states\, creative self expression\, and next level jamming. \nThis workshop is part of a larger series of classes which explore free improvisation for meditation\, emotional processing and self-expression\, states of consciousness\, spirtuality\, and healing. \nkeynotemusical.com \nWHERE: Cedar Center\, in the Great Hall \nWhen: March 2nd\,9th\, and 16th from 6:00pm-9:00pm \nAGES: Skill level\, intermediate and above. \nBRING:Instuments and Amplification \nCOST: $25 per session \nINSTRUCTOR: Jeremy Kern jjkurn1@hotmail.com (303) 903-2765 \nPlease contact instructor for any questions regarding this class!  \nContact tom@pacificagarden.org for questions regarding registration.
URL:https://pacificagarden.org/event/improvised-music-workshop-and-jam-2/
END:VEVENT
END:VCALENDAR