BEGIN:VCALENDAR
VERSION:2.0
PRODID:-//Pacifica - ECPv6.15.20//NONSGML v1.0//EN
CALSCALE:GREGORIAN
METHOD:PUBLISH
X-WR-CALNAME:Pacifica
X-ORIGINAL-URL:https://pacificagarden.org
X-WR-CALDESC:Events for Pacifica
REFRESH-INTERVAL;VALUE=DURATION:PT1H
X-Robots-Tag:noindex
X-PUBLISHED-TTL:PT1H
BEGIN:VTIMEZONE
TZID:America/Los_Angeles
BEGIN:DAYLIGHT
TZOFFSETFROM:-0800
TZOFFSETTO:-0700
TZNAME:PDT
DTSTART:20240310T100000
END:DAYLIGHT
BEGIN:STANDARD
TZOFFSETFROM:-0700
TZOFFSETTO:-0800
TZNAME:PST
DTSTART:20241103T090000
END:STANDARD
BEGIN:DAYLIGHT
TZOFFSETFROM:-0800
TZOFFSETTO:-0700
TZNAME:PDT
DTSTART:20250309T100000
END:DAYLIGHT
BEGIN:STANDARD
TZOFFSETFROM:-0700
TZOFFSETTO:-0800
TZNAME:PST
DTSTART:20251102T090000
END:STANDARD
BEGIN:DAYLIGHT
TZOFFSETFROM:-0800
TZOFFSETTO:-0700
TZNAME:PDT
DTSTART:20260308T100000
END:DAYLIGHT
BEGIN:STANDARD
TZOFFSETFROM:-0700
TZOFFSETTO:-0800
TZNAME:PST
DTSTART:20261101T090000
END:STANDARD
END:VTIMEZONE
BEGIN:VEVENT
DTSTART;TZID=America/Los_Angeles:20250821T090000
DTEND;TZID=America/Los_Angeles:20250821T130000
DTSTAMP:20260420T043400
CREATED:20250819T172651Z
LAST-MODIFIED:20250821T174352Z
UID:3856-1755766800-1755781200@pacificagarden.org
SUMMARY:Horse Camp
DESCRIPTION:When: Aug 18-21 | 9am – 1pm \n\n\nAges: 11-14 \n\n\nInstructor: Tara Wesolowski & Tess Wesolowski \n\n\nCost: $300 (Partial Scholarships Available) \n\n\nCome join sisters\, Tess and Tara\, for a fun and informational horse themed day camp! We will learn about horse health\, safety and handling\, maintenance\, grooming\, riding (included but not our main focus) and more! Age appropriate games and exercises are planned for each week. Great for any level of experience. Please wear long pants and close toed shoes. \nHow To Register: Read about each camp below and then use this form to select your choice and sign up your child.
URL:https://pacificagarden.org/event/horse-camp-11/
END:VEVENT
BEGIN:VEVENT
DTSTART;TZID=America/Los_Angeles:20250820T090000
DTEND;TZID=America/Los_Angeles:20250820T130000
DTSTAMP:20260420T043400
CREATED:20250819T172651Z
LAST-MODIFIED:20250820T174255Z
UID:3855-1755680400-1755694800@pacificagarden.org
SUMMARY:Horse Camp
DESCRIPTION:When: Aug 18-21 | 9am – 1pm \n\n\nAges: 11-14 \n\n\nInstructor: Tara Wesolowski & Tess Wesolowski \n\n\nCost: $300 (Partial Scholarships Available) \n\n\nCome join sisters\, Tess and Tara\, for a fun and informational horse themed day camp! We will learn about horse health\, safety and handling\, maintenance\, grooming\, riding (included but not our main focus) and more! Age appropriate games and exercises are planned for each week. Great for any level of experience. Please wear long pants and close toed shoes. \nHow To Register: Read about each camp below and then use this form to select your choice and sign up your child.
URL:https://pacificagarden.org/event/horse-camp-10/
END:VEVENT
BEGIN:VEVENT
DTSTART;TZID=America/Los_Angeles:20250819T100000
DTEND;TZID=America/Los_Angeles:20250819T140000
DTSTAMP:20260420T043400
CREATED:20250720T125114Z
LAST-MODIFIED:20250818T171242Z
UID:3347-1755597600-1755612000@pacificagarden.org
SUMMARY:Horse Camp
DESCRIPTION:When: Aug 18-21 | 9am – 1pm \n\n\nAges: 11-14 \n\n\nInstructor: Tara Wesolowski & Tess Wesolowski \n\n\nCost: $300 (Partial Scholarships Available) \n\n\nCome join sisters\, Tess and Tara\, for a fun and informational horse themed day camp! We will learn about horse health\, safety and handling\, maintenance\, grooming\, riding (included but not our main focus) and more! Age appropriate games and exercises are planned for each week. Great for any level of experience. Please wear long pants and close toed shoes. \nHow To Register: Read about each camp below and then use this form to select your choice and sign up your child.
URL:https://pacificagarden.org/event/horse-camp-6/
END:VEVENT
BEGIN:VEVENT
DTSTART;TZID=America/Los_Angeles:20250819T090000
DTEND;TZID=America/Los_Angeles:20250819T130000
DTSTAMP:20260420T043400
CREATED:20250819T172651Z
LAST-MODIFIED:20250819T172750Z
UID:3854-1755594000-1755608400@pacificagarden.org
SUMMARY:Horse Camp
DESCRIPTION:When: Aug 18-21 | 9am – 1pm \n\n\nAges: 11-14 \n\n\nInstructor: Tara Wesolowski & Tess Wesolowski \n\n\nCost: $300 (Partial Scholarships Available) \n\n\nCome join sisters\, Tess and Tara\, for a fun and informational horse themed day camp! We will learn about horse health\, safety and handling\, maintenance\, grooming\, riding (included but not our main focus) and more! Age appropriate games and exercises are planned for each week. Great for any level of experience. Please wear long pants and close toed shoes. \nHow To Register: Read about each camp below and then use this form to select your choice and sign up your child.
URL:https://pacificagarden.org/event/horse-camp-9/
END:VEVENT
BEGIN:VEVENT
DTSTART;TZID=America/Los_Angeles:20250818T100000
DTEND;TZID=America/Los_Angeles:20250818T140000
DTSTAMP:20260420T043400
CREATED:20250720T125114Z
LAST-MODIFIED:20250818T171242Z
UID:3346-1755511200-1755525600@pacificagarden.org
SUMMARY:Horse Camp
DESCRIPTION:When: Aug 18-21 | 9am – 1pm \n\n\nAges: 11-14 \n\n\nInstructor: Tara Wesolowski & Tess Wesolowski \n\n\nCost: $300 (Partial Scholarships Available) \n\n\nCome join sisters\, Tess and Tara\, for a fun and informational horse themed day camp! We will learn about horse health\, safety and handling\, maintenance\, grooming\, riding (included but not our main focus) and more! Age appropriate games and exercises are planned for each week. Great for any level of experience. Please wear long pants and close toed shoes. \nHow To Register: Read about each camp below and then use this form to select your choice and sign up your child.
URL:https://pacificagarden.org/event/horse-camp-5/
END:VEVENT
BEGIN:VEVENT
DTSTART;TZID=America/Los_Angeles:20250817T120000
DTEND;TZID=America/Los_Angeles:20250817T140000
DTSTAMP:20260420T043400
CREATED:20250802T042116Z
LAST-MODIFIED:20250817T170814Z
UID:3783-1755432000-1755439200@pacificagarden.org
SUMMARY:Community Ecstatic Dance
DESCRIPTION:One Sunday per month\, there will be a donation-based ecstatic dance hosted at Pacifica’s Great Hall inside the Cedar Center. \n  \nThis is not a Pacifica event.
URL:https://pacificagarden.org/event/community-ecstatic-dance-7/
END:VEVENT
BEGIN:VEVENT
DTSTART;VALUE=DATE:20250815
DTEND;VALUE=DATE:20250818
DTSTAMP:20260420T043400
CREATED:20250720T125114Z
LAST-MODIFIED:20250817T170814Z
UID:3344-1755216000-1755475199@pacificagarden.org
SUMMARY:Meadow Cottage (Not available)
DESCRIPTION:For availability and bookings of The Pond House\, please visit our AirBNB page. \n \nFor availability and bookings of The Meadow Cottage\, please visit our AirBNB page.
URL:https://pacificagarden.org/event/meadow-cottage-not-available-11/
END:VEVENT
BEGIN:VEVENT
DTSTART;VALUE=DATE:20250815
DTEND;VALUE=DATE:20250818
DTSTAMP:20260420T043400
CREATED:20250720T125114Z
LAST-MODIFIED:20250817T170814Z
UID:3345-1755216000-1755475199@pacificagarden.org
SUMMARY:Pond House (Unavailable)
DESCRIPTION:For availability and bookings of The Pond House\, please visit our AirBNB page. \n \nFor availability and bookings of The Meadow Cottage\, please visit our AirBNB page.
URL:https://pacificagarden.org/event/pond-house-unavailable/
END:VEVENT
BEGIN:VEVENT
DTSTART;TZID=America/Los_Angeles:20250814T100000
DTEND;TZID=America/Los_Angeles:20250814T140000
DTSTAMP:20260420T043400
CREATED:20250720T125114Z
LAST-MODIFIED:20250814T141952Z
UID:3343-1755165600-1755180000@pacificagarden.org
SUMMARY:Creative Arts and Dance Camp
DESCRIPTION:When: Aug 11-14 | 10am – 2pm \n\n\nAges: 6-16 \n\n\nInstructor: Aimee and Kala \n\n\nCost: $240 or $60 per day \n\n\nJoin us as we combine dance instruction with other creative activities like art\, music\, and drama. Our camp is designed to foster creativity\, self-expression\, and social-emotional learning through movement and artistic exploration. To enroll in this camp\, contact Aimee Dietrick at araeoflightdance@gmail.com
URL:https://pacificagarden.org/event/creative-arts-and-dance-camp-4/
END:VEVENT
BEGIN:VEVENT
DTSTART;TZID=America/Los_Angeles:20250813T100000
DTEND;TZID=America/Los_Angeles:20250813T140000
DTSTAMP:20260420T043400
CREATED:20250720T125113Z
LAST-MODIFIED:20250813T140149Z
UID:3341-1755079200-1755093600@pacificagarden.org
SUMMARY:Creative Arts and Dance Camp
DESCRIPTION:When: Aug 11-14 | 10am – 2pm \n\n\nAges: 6-16 \n\n\nInstructor: Aimee and Kala \n\n\nCost: $240 or $60 per day \n\n\nJoin us as we combine dance instruction with other creative activities like art\, music\, and drama. Our camp is designed to foster creativity\, self-expression\, and social-emotional learning through movement and artistic exploration. To enroll in this camp\, contact Aimee Dietrick at araeoflightdance@gmail.com
URL:https://pacificagarden.org/event/creative-arts-and-dance-camp-3/
END:VEVENT
BEGIN:VEVENT
DTSTART;TZID=America/Los_Angeles:20250812T100000
DTEND;TZID=America/Los_Angeles:20250812T140000
DTSTAMP:20260420T043400
CREATED:20250720T125113Z
LAST-MODIFIED:20250812T130334Z
UID:3340-1754992800-1755007200@pacificagarden.org
SUMMARY:Creative Arts and Dance Camp
DESCRIPTION:When: Aug 11-14 | 10am – 2pm \n\n\nAges: 6-16 \n\n\nInstructor: Aimee and Kala \n\n\nCost: $240 or $60 per day \n\n\nJoin us as we combine dance instruction with other creative activities like art\, music\, and drama. Our camp is designed to foster creativity\, self-expression\, and social-emotional learning through movement and artistic exploration. To enroll in this camp\, contact Aimee Dietrick at araeoflightdance@gmail.com
URL:https://pacificagarden.org/event/creative-arts-and-dance-camp-2/
END:VEVENT
BEGIN:VEVENT
DTSTART;TZID=America/Los_Angeles:20250811T100000
DTEND;TZID=America/Los_Angeles:20250811T140000
DTSTAMP:20260420T043400
CREATED:20250720T125113Z
LAST-MODIFIED:20250811T121304Z
UID:3339-1754906400-1754920800@pacificagarden.org
SUMMARY:Creative Arts and Dance Camp
DESCRIPTION:When: Aug 11-14 | 10am – 2pm \n\n\nAges: 6-16 \n\n\nInstructor: Aimee and Kala \n\n\nCost: $240 or $60 per day \n\n\nJoin us as we combine dance instruction with other creative activities like art\, music\, and drama. Our camp is designed to foster creativity\, self-expression\, and social-emotional learning through movement and artistic exploration. To enroll in this camp\, contact Aimee Dietrick at araeoflightdance@gmail.com
URL:https://pacificagarden.org/event/creative-arts-and-dance-camp/
END:VEVENT
BEGIN:VEVENT
DTSTART;VALUE=DATE:20250811
DTEND;VALUE=DATE:20250815
DTSTAMP:20260420T043400
CREATED:20250720T125114Z
LAST-MODIFIED:20250814T141952Z
UID:3342-1754870400-1755215999@pacificagarden.org
SUMMARY:Pond House (Not Available)
DESCRIPTION:For availability and bookings of The Pond House\, please visit our AirBNB page. \n \nFor availability and bookings of The Meadow Cottage\, please visit our AirBNB page.
URL:https://pacificagarden.org/event/pond-house-not-available-9/
END:VEVENT
BEGIN:VEVENT
DTSTART;TZID=America/Los_Angeles:20250810T093000
DTEND;TZID=America/Los_Angeles:20250810T113000
DTSTAMP:20260420T043400
CREATED:20250802T042104Z
LAST-MODIFIED:20250810T111928Z
UID:3782-1754818200-1754825400@pacificagarden.org
SUMMARY:Forest Therapy
DESCRIPTION:The practice of Forest Therapy\, also referred to as Forest Bathing\, is inspired by the practice of Shinrin-Yoku\, a research-based framework from Japan. The focus of this framework is to increase health and wellness through immersion in nature. The term Shinrin-Yoku translates to “Forest Bathing.” \nTo register: Click Here \nThis is not a Pacifica event.
URL:https://pacificagarden.org/event/forest-therapy-26/
END:VEVENT
BEGIN:VEVENT
DTSTART;VALUE=DATE:20250808
DTEND;VALUE=DATE:20250811
DTSTAMP:20260420T043400
CREATED:20250720T125113Z
LAST-MODIFIED:20250810T111928Z
UID:3337-1754611200-1754870399@pacificagarden.org
SUMMARY:Pond House-(Not Available)
DESCRIPTION:For availability and bookings of The Pond House\, please visit our AirBNB page. \n \nFor availability and bookings of The Meadow Cottage\, please visit our AirBNB page.
URL:https://pacificagarden.org/event/pond-house-not-available-8/
END:VEVENT
BEGIN:VEVENT
DTSTART;TZID=America/Los_Angeles:20250807T100000
DTEND;TZID=America/Los_Angeles:20250807T140000
DTSTAMP:20260420T043400
CREATED:20250720T125113Z
LAST-MODIFIED:20250807T092913Z
UID:3336-1754560800-1754575200@pacificagarden.org
SUMMARY:Horse Camp
DESCRIPTION:When: Aug 4-7 | 10am – 1pm \n\n\nAges: 7-10 \n\n\nInstructor: Tara Wesolowski & Tess Wesolowski \n\n\nCost: $275 (Partial Scholarships Available) \n\n\nCome join sisters\, Tess and Tara\, for a fun and informational horse themed day camp! We will learn about horse health\, safety and handling\, maintenance\, grooming\, riding (included but not our main focus) and more! Age appropriate games and exercises are planned for each week. Great for any level of experience. Please wear long pants and close toed shoes. \nHow To Register: Read about each camp below and then use this form to select your choice and sign up your child.
URL:https://pacificagarden.org/event/horse-camp-4/
END:VEVENT
BEGIN:VEVENT
DTSTART;TZID=America/Los_Angeles:20250806T100000
DTEND;TZID=America/Los_Angeles:20250806T140000
DTSTAMP:20260420T043400
CREATED:20250720T125113Z
LAST-MODIFIED:20250806T083854Z
UID:3333-1754474400-1754488800@pacificagarden.org
SUMMARY:Horse Camp
DESCRIPTION:When: Aug 4-7 | 10am – 1pm \n\n\nAges: 7-10 \n\n\nInstructor: Tara Wesolowski & Tess Wesolowski \n\n\nCost: $275 (Partial Scholarships Available) \n\n\nCome join sisters\, Tess and Tara\, for a fun and informational horse themed day camp! We will learn about horse health\, safety and handling\, maintenance\, grooming\, riding (included but not our main focus) and more! Age appropriate games and exercises are planned for each week. Great for any level of experience. Please wear long pants and close toed shoes. \nHow To Register: Read about each camp below and then use this form to select your choice and sign up your child.
URL:https://pacificagarden.org/event/horse-camp-3/
END:VEVENT
BEGIN:VEVENT
DTSTART;TZID=America/Los_Angeles:20250805T100000
DTEND;TZID=America/Los_Angeles:20250805T140000
DTSTAMP:20260420T043400
CREATED:20250720T125113Z
LAST-MODIFIED:20250805T074144Z
UID:3332-1754388000-1754402400@pacificagarden.org
SUMMARY:Horse Camp
DESCRIPTION:
URL:https://pacificagarden.org/event/horse-camp-2/
END:VEVENT
BEGIN:VEVENT
DTSTART;TZID=America/Los_Angeles:20250804T100000
DTEND;TZID=America/Los_Angeles:20250804T140000
DTSTAMP:20260420T043400
CREATED:20250720T125112Z
LAST-MODIFIED:20250804T063647Z
UID:3331-1754301600-1754316000@pacificagarden.org
SUMMARY:Horse Camp
DESCRIPTION:
URL:https://pacificagarden.org/event/horse-camp/
END:VEVENT
BEGIN:VEVENT
DTSTART;VALUE=DATE:20250802
DTEND;VALUE=DATE:20250803
DTSTAMP:20260420T043400
CREATED:20250720T125112Z
LAST-MODIFIED:20250802T050547Z
UID:3330-1754092800-1754179199@pacificagarden.org
SUMMARY:Great Hall Unavailable
DESCRIPTION:Private Event
URL:https://pacificagarden.org/event/great-hall-unavailable/
END:VEVENT
BEGIN:VEVENT
DTSTART;VALUE=DATE:20250731
DTEND;VALUE=DATE:20250808
DTSTAMP:20260420T043400
CREATED:20250720T125113Z
LAST-MODIFIED:20250807T092913Z
UID:3334-1753920000-1754611199@pacificagarden.org
SUMMARY:Meadow Cottage (Not Available)
DESCRIPTION:For availability and bookings of The Pond House\, please visit our AirBNB page. \n \nFor availability and bookings of The Meadow Cottage\, please visit our AirBNB page.
URL:https://pacificagarden.org/event/meadow-cottage-not-available-7/
END:VEVENT
BEGIN:VEVENT
DTSTART;VALUE=DATE:20250731
DTEND;VALUE=DATE:20250803
DTSTAMP:20260420T043400
CREATED:20250720T125113Z
LAST-MODIFIED:20250802T050547Z
UID:3335-1753920000-1754179199@pacificagarden.org
SUMMARY:Pond House (Not Available)
DESCRIPTION:For availability and bookings of The Pond House\, please visit our AirBNB page. \n \nFor availability and bookings of The Meadow Cottage\, please visit our AirBNB page.
URL:https://pacificagarden.org/event/pond-house-not-available-7/
END:VEVENT
BEGIN:VEVENT
DTSTART;VALUE=DATE:20250726
DTEND;VALUE=DATE:20250731
DTSTAMP:20260420T043400
CREATED:20250720T125112Z
LAST-MODIFIED:20250730T232233Z
UID:3329-1753488000-1753919999@pacificagarden.org
SUMMARY:Meadow Cottage (Not Available)
DESCRIPTION:For availability and bookings of The Pond House\, please visit our AirBNB page. \n \nFor availability and bookings of The Meadow Cottage\, please visit our AirBNB page.
URL:https://pacificagarden.org/event/meadow-cottage-not-available-2/
END:VEVENT
BEGIN:VEVENT
DTSTART;VALUE=DATE:20250725
DTEND;VALUE=DATE:20250729
DTSTAMP:20260420T043400
CREATED:20250720T125112Z
LAST-MODIFIED:20250728T220241Z
UID:3328-1753401600-1753747199@pacificagarden.org
SUMMARY:Pond House (Not Available)
DESCRIPTION:For availability and bookings of The Pond House\, please visit our AirBNB page. \n \nFor availability and bookings of The Meadow Cottage\, please visit our AirBNB page.
URL:https://pacificagarden.org/event/pond-house-not-available-6/
END:VEVENT
BEGIN:VEVENT
DTSTART;TZID=America/Los_Angeles:20250720T150000
DTEND;TZID=America/Los_Angeles:20250720T180000
DTSTAMP:20260420T043400
CREATED:20250720T125112Z
LAST-MODIFIED:20250720T125112Z
UID:3327-1753023600-1753034400@pacificagarden.org
SUMMARY:Inkle Weaving Workshop
DESCRIPTION:https://form.jotform.com/pacificawilliams/inkle-loom-weaving \nWhen: Sunday July 20th 3-6pmWhere: Maker’s SpaceAges: 14 and upCost: $7 cost is for only materials and transaction fees \nThis program is made possible thanks to the generous support of the Roundhouse Foundation
URL:https://pacificagarden.org/event/inkle-weaving-workshop/
END:VEVENT
BEGIN:VEVENT
DTSTART;VALUE=DATE:20250717
DTEND;VALUE=DATE:20250720
DTSTAMP:20260420T043400
CREATED:20250704T215016Z
LAST-MODIFIED:20250719T115608Z
UID:3234-1752710400-1752969599@pacificagarden.org
SUMMARY:Meadow Cottage (Not Available)
DESCRIPTION:For availability and bookings of The Pond House\, please visit our AirBNB page. \n \nFor availability and bookings of The Meadow Cottage\, please visit our AirBNB page.
URL:https://pacificagarden.org/event/meadow-cottage-not-available-17/
END:VEVENT
BEGIN:VEVENT
DTSTART;TZID=America/Los_Angeles:20250713T093000
DTEND;TZID=America/Los_Angeles:20250713T113000
DTSTAMP:20260420T043400
CREATED:20250709T031925Z
LAST-MODIFIED:20250713T074315Z
UID:3242-1752399000-1752406200@pacificagarden.org
SUMMARY:Forest Therapy
DESCRIPTION:The practice of Forest Therapy\, also referred to as Forest Bathing\, is inspired by the practice of Shinrin-Yoku\, a research-based framework from Japan. The focus of this framework is to increase health and wellness through immersion in nature. The term Shinrin-Yoku translates to “Forest Bathing.” \nTo register: Click Here \nThis is not a Pacifica event.
URL:https://pacificagarden.org/event/forest-therapy/
END:VEVENT
BEGIN:VEVENT
DTSTART;VALUE=DATE:20250711
DTEND;VALUE=DATE:20250716
DTSTAMP:20260420T043400
CREATED:20250708T024025Z
LAST-MODIFIED:20250715T091150Z
UID:3239-1752192000-1752623999@pacificagarden.org
SUMMARY:The Meadow Cottage (Not Available)
DESCRIPTION:For availability and bookings of The Pond House\, please visit our AirBNB page. \n \nFor availability and bookings of The Meadow Cottage\, please visit our AirBNB page.
URL:https://pacificagarden.org/event/the-meadow-cottage-not-available-3/
END:VEVENT
BEGIN:VEVENT
DTSTART;VALUE=DATE:20250710
DTEND;VALUE=DATE:20250714
DTSTAMP:20260420T043400
CREATED:20250709T031925Z
LAST-MODIFIED:20250713T074315Z
UID:3243-1752105600-1752451199@pacificagarden.org
SUMMARY:Pond House (Not Available)
DESCRIPTION:For availability and bookings of The Pond House\, please visit our AirBNB page. \n \nFor availability and bookings of The Meadow Cottage\, please visit our AirBNB page.
URL:https://pacificagarden.org/event/pond-house-not-available-27/
END:VEVENT
BEGIN:VEVENT
DTSTART;TZID=America/Los_Angeles:20250706T120000
DTEND;TZID=America/Los_Angeles:20250706T140000
DTSTAMP:20260420T043400
CREATED:20250619T103021Z
LAST-MODIFIED:20250706T014616Z
UID:3201-1751803200-1751810400@pacificagarden.org
SUMMARY:Community E-Dance
DESCRIPTION:One Sunday per month\, there will be a donation-based ecstatic dance hosted at Pacifica’s Great Hall inside the Cedar Center. \n  \nThis is not a Pacifica event.
URL:https://pacificagarden.org/event/community-e-dance/
END:VEVENT
END:VCALENDAR